BEGIN:VCALENDAR
VERSION:2.0
PRODID:-//Bichon Frise Club of America - ECPv6.15.20//NONSGML v1.0//EN
CALSCALE:GREGORIAN
METHOD:PUBLISH
X-WR-CALNAME:Bichon Frise Club of America
X-ORIGINAL-URL:https://bichon.org
X-WR-CALDESC:Events for Bichon Frise Club of America
REFRESH-INTERVAL;VALUE=DURATION:PT1H
X-Robots-Tag:noindex
X-PUBLISHED-TTL:PT1H
BEGIN:VTIMEZONE
TZID:America/New_York
BEGIN:DAYLIGHT
TZOFFSETFROM:-0500
TZOFFSETTO:-0400
TZNAME:EDT
DTSTART:20210314T070000
END:DAYLIGHT
BEGIN:STANDARD
TZOFFSETFROM:-0400
TZOFFSETTO:-0500
TZNAME:EST
DTSTART:20211107T060000
END:STANDARD
BEGIN:DAYLIGHT
TZOFFSETFROM:-0500
TZOFFSETTO:-0400
TZNAME:EDT
DTSTART:20220313T070000
END:DAYLIGHT
BEGIN:STANDARD
TZOFFSETFROM:-0400
TZOFFSETTO:-0500
TZNAME:EST
DTSTART:20221106T060000
END:STANDARD
BEGIN:DAYLIGHT
TZOFFSETFROM:-0500
TZOFFSETTO:-0400
TZNAME:EDT
DTSTART:20230312T070000
END:DAYLIGHT
BEGIN:STANDARD
TZOFFSETFROM:-0400
TZOFFSETTO:-0500
TZNAME:EST
DTSTART:20231105T060000
END:STANDARD
END:VTIMEZONE
BEGIN:VEVENT
DTSTART;VALUE=DATE:20221202
DTEND;VALUE=DATE:20221205
DTSTAMP:20260420T131558
CREATED:20220703T023410Z
LAST-MODIFIED:20220703T023902Z
UID:8461-1669939200-1670198399@bichon.org
SUMMARY:BFCA Designated Specialties
DESCRIPTION:BFCA Three Designated Specialties\nFriday\, December 2nd – Judge – John Booth\nSaturday\, December 3rd – Judge – Jon Cole\nSunday \, December 4th – Judge – Lee Whittier \nThe Winter Wonderland Cluster begins on Tuesday 11/29 and goes through the following Monday 12/5\, with no shows on Thursday. \nBFCA Parent Club Specialty\nSaturday Afternoon\, December 3rd\nJudge – Randy Garren \nShow Superintendent – Foy Trent Dog Shows\nif you would like a premium list sent to you\, please contact Debbie Hollan or Mary Spruiell\, and you will be added to the mailing list. Please let us know by Sept 1 if you want a premium list mailed to you\, otherwise it will be online \n🐾 Welcome Night Party! BFCA is hosting a casual welcome night party on Thursday Dec 1st\, in the evening\, with pizza\, soft drinks\, and local favorite\, hot peach cobbler topped with vanilla ice cream. This would be a BYOB (if you choose)\n🐾 Shopping! Thursday (which is the off day) the buildings will be open to shop with all vendors open for relaxed shopping.\n🐾 Fast CAT – will be offered for 6 days\n🐾 Barn Hunt – will be available for 4 days during the week.\n🐾 Grooming Seminar – Shannon Tupes will also be conducting a grooming seminar on coat maintenance and products on Thursday\, Dec 2nd. \nSOMETHING DIFFERENT!\nThis is a huge facility and for something different\, exhibitors can rent an RV by the day from one of three or four vendors who will take your RV to the fairgrounds and set it up for you so you can be on the grounds for the week. In addition\, a list of hotels will be in the premium list. \n 
URL:https://bichon.org/event/bfca-designated-specialties-202212/
LOCATION:Georgia National Fairgrounds\, 401 Larry Walker Parkway\, Perry\, GA\, 31069\, United States
ORGANIZER;CN="Shannon Tupes":MAILTO:relevetx@yahoo.com
END:VEVENT
END:VCALENDAR