BEGIN:VCALENDAR
VERSION:2.0
PRODID:-//Bichon Frise Club of America - ECPv6.15.20//NONSGML v1.0//EN
CALSCALE:GREGORIAN
METHOD:PUBLISH
X-ORIGINAL-URL:https://bichon.org
X-WR-CALDESC:Events for Bichon Frise Club of America
REFRESH-INTERVAL;VALUE=DURATION:PT1H
X-Robots-Tag:noindex
X-PUBLISHED-TTL:PT1H
BEGIN:VTIMEZONE
TZID:America/New_York
BEGIN:DAYLIGHT
TZOFFSETFROM:-0500
TZOFFSETTO:-0400
TZNAME:EDT
DTSTART:20230312T070000
END:DAYLIGHT
BEGIN:STANDARD
TZOFFSETFROM:-0400
TZOFFSETTO:-0500
TZNAME:EST
DTSTART:20231105T060000
END:STANDARD
BEGIN:DAYLIGHT
TZOFFSETFROM:-0500
TZOFFSETTO:-0400
TZNAME:EDT
DTSTART:20240310T070000
END:DAYLIGHT
BEGIN:STANDARD
TZOFFSETFROM:-0400
TZOFFSETTO:-0500
TZNAME:EST
DTSTART:20241103T060000
END:STANDARD
BEGIN:DAYLIGHT
TZOFFSETFROM:-0500
TZOFFSETTO:-0400
TZNAME:EDT
DTSTART:20250309T070000
END:DAYLIGHT
BEGIN:STANDARD
TZOFFSETFROM:-0400
TZOFFSETTO:-0500
TZNAME:EST
DTSTART:20251102T060000
END:STANDARD
END:VTIMEZONE
BEGIN:VEVENT
DTSTART;VALUE=DATE:20240224
DTEND;VALUE=DATE:20240227
DTSTAMP:20260419T205745
CREATED:20230921T011046Z
LAST-MODIFIED:20231002T211328Z
UID:9195-1708732800-1708991999@bichon.org
SUMMARY:63rd Specialty Show and Sweepstakes – The Bichon Frise Club of San Diego “Bichons in Paris”
DESCRIPTION:The Bichon Frise Club of San Diego \nSaturday\, February 24\, 2024\n63rd Specialty Show and Sweepstakes – “Bichons in Paris”\nDesignated Specialty in conjunction with Silver Bay Kennel Club 3 days of All Breed Shows \n* Del Mar Fairgrounds\, 2260 Jimmy Durante Blvd\, Del Mar\, CA 92014\n* Indoors\, In conjunction with the 3 Silver Bay Kennel Club all breed shows (Friday\, Saturday\, Sunday)\n* Friday and Sunday\, The BFCSD will do a supported entry at the SBKC shows with beautiful rosettes for award winners\n* Saturday is the BFCSD “Bichons in Paris” Specialty with crystal trophies and beautiful rosettes for all exhibitors \nEntries close Wednesday\, February 7\, 2024\, Noon PST \n* Puppy Sweepstakes (6 months and under 15 months)\n* Conformation with Challenge Trophies\, Awards of Merit and Owner Handled\n* Parade of Title Holders\n* New Title Holder Rosettes available all 3 days \nDetails at https://bichonfriseclubofsandiego.com/2024specialty-winter/
URL:https://bichon.org/event/63rd-specialty-show-and-sweepstakes-bichons-in-paris/
LOCATION:Del Mar Fairgrounds\, 2260 Jimmy Durante Blvd\, Del Mar\, CA\, 92082\, United States
CATEGORIES:Local Club
END:VEVENT
END:VCALENDAR