BEGIN:VCALENDAR
VERSION:2.0
PRODID:-//Bichon Frise Club of America - ECPv6.15.20//NONSGML v1.0//EN
CALSCALE:GREGORIAN
METHOD:PUBLISH
X-WR-CALNAME:Bichon Frise Club of America
X-ORIGINAL-URL:https://bichon.org
X-WR-CALDESC:Events for Bichon Frise Club of America
REFRESH-INTERVAL;VALUE=DURATION:PT1H
X-Robots-Tag:noindex
X-PUBLISHED-TTL:PT1H
BEGIN:VTIMEZONE
TZID:America/New_York
BEGIN:DAYLIGHT
TZOFFSETFROM:-0500
TZOFFSETTO:-0400
TZNAME:EDT
DTSTART:20230312T070000
END:DAYLIGHT
BEGIN:STANDARD
TZOFFSETFROM:-0400
TZOFFSETTO:-0500
TZNAME:EST
DTSTART:20231105T060000
END:STANDARD
BEGIN:DAYLIGHT
TZOFFSETFROM:-0500
TZOFFSETTO:-0400
TZNAME:EDT
DTSTART:20240310T070000
END:DAYLIGHT
BEGIN:STANDARD
TZOFFSETFROM:-0400
TZOFFSETTO:-0500
TZNAME:EST
DTSTART:20241103T060000
END:STANDARD
BEGIN:DAYLIGHT
TZOFFSETFROM:-0500
TZOFFSETTO:-0400
TZNAME:EDT
DTSTART:20250309T070000
END:DAYLIGHT
BEGIN:STANDARD
TZOFFSETFROM:-0400
TZOFFSETTO:-0500
TZNAME:EST
DTSTART:20251102T060000
END:STANDARD
END:VTIMEZONE
BEGIN:VEVENT
DTSTART;VALUE=DATE:20240502
DTEND;VALUE=DATE:20240504
DTSTAMP:20260419T174929
CREATED:20210630T044831Z
LAST-MODIFIED:20210701T052040Z
UID:7395-1714608000-1714780799@bichon.org
SUMMARY:48th National Specialty Shows
DESCRIPTION:
URL:https://bichon.org/event/48th-national-specialty-shows/
LOCATION:Sheraton Lisle Naperville Hotel\, 3000 Warrenville Rd\, Lisle\, IL\, 60532\, United States
END:VEVENT
BEGIN:VEVENT
DTSTART;VALUE=DATE:20240502
DTEND;VALUE=DATE:20240505
DTSTAMP:20260419T174929
CREATED:20240430T204211Z
LAST-MODIFIED:20240430T204211Z
UID:9901-1714608000-1714867199@bichon.org
SUMMARY:Bichon Frise Club of Northern California
DESCRIPTION:Title: Bichon Frise Club of Northern California\nEvent: Specialty \n– Entries closed Wednesday\, April 3\, 2024\nhttps://www.executivedogshows.com/ \nPlease join the Bichon Frise Club of Northern California in Chicago\, IL with four days of shows!!! \nPremium List: https://dogshowwon.blob.core.windows.net/ninafetter/showFiles/phJFXpA3TpRKSbvsN/undefined/2024%20PL_Bichon_Frise_Club_America.pdf \nSheraton Lisle Naperville Hotel\n3000 Warrenville Rd\, Naperville\, IL \nEvent Chair: Donna DeMartini\n9180 LOS LAGOS CIR S\, GRANITE BAY\, CA 95746-5842\ndemartinidonna991@gmail.com\n916-847-0151
URL:https://bichon.org/event/bichon-frise-club-of-northern-california-2/
END:VEVENT
END:VCALENDAR