BEGIN:VCALENDAR
VERSION:2.0
PRODID:-//Bichon Frise Club of America - ECPv6.15.20//NONSGML v1.0//EN
CALSCALE:GREGORIAN
METHOD:PUBLISH
X-WR-CALNAME:Bichon Frise Club of America
X-ORIGINAL-URL:https://bichon.org
X-WR-CALDESC:Events for Bichon Frise Club of America
REFRESH-INTERVAL;VALUE=DURATION:PT1H
X-Robots-Tag:noindex
X-PUBLISHED-TTL:PT1H
BEGIN:VTIMEZONE
TZID:America/New_York
BEGIN:DAYLIGHT
TZOFFSETFROM:-0500
TZOFFSETTO:-0400
TZNAME:EDT
DTSTART:20230312T070000
END:DAYLIGHT
BEGIN:STANDARD
TZOFFSETFROM:-0400
TZOFFSETTO:-0500
TZNAME:EST
DTSTART:20231105T060000
END:STANDARD
BEGIN:DAYLIGHT
TZOFFSETFROM:-0500
TZOFFSETTO:-0400
TZNAME:EDT
DTSTART:20240310T070000
END:DAYLIGHT
BEGIN:STANDARD
TZOFFSETFROM:-0400
TZOFFSETTO:-0500
TZNAME:EST
DTSTART:20241103T060000
END:STANDARD
BEGIN:DAYLIGHT
TZOFFSETFROM:-0500
TZOFFSETTO:-0400
TZNAME:EDT
DTSTART:20250309T070000
END:DAYLIGHT
BEGIN:STANDARD
TZOFFSETFROM:-0400
TZOFFSETTO:-0500
TZNAME:EST
DTSTART:20251102T060000
END:STANDARD
END:VTIMEZONE
BEGIN:VEVENT
DTSTART;VALUE=DATE:20240615
DTEND;VALUE=DATE:20240616
DTSTAMP:20260419T144930
CREATED:20240419T182158Z
LAST-MODIFIED:20240430T203951Z
UID:9870-1718409600-1718495999@bichon.org
SUMMARY:Bichon Frise Club of Puget Sound\, Inc
DESCRIPTION:Title: Bichon Frise Club of Puget Sound\, Inc\nEvent: B Match\, Conformation \nDate: Saturday\, June 15\, 2024 \nClarks Creek Park Area #3\, 1700 12th Avenue S W\, Puyallup\, WA
URL:https://bichon.org/event/bichon-frise-club-of-puget-sound-inc/
END:VEVENT
BEGIN:VEVENT
DTSTART;VALUE=DATE:20240615
DTEND;VALUE=DATE:20240616
DTSTAMP:20260419T144930
CREATED:20240112T192637Z
LAST-MODIFIED:20240419T182432Z
UID:9260-1718409600-1718495999@bichon.org
SUMMARY:Bichon Frise Club of San Diego\, Summer Designated Specialty Show
DESCRIPTION:– Entries close Wednesday\, 5/29/24 (Noon Pacific Time)\nVisit jbradshaw.com to enter. \nIn conjunction with 3 All Breed Shows from Bahia Sur Kennel Club (June 14-16\, 2024\nLocation\, Bates Nut Farm\, 15954 Woods Valley Rd\, Valley Center\, CA 92082\n— Sweepstakes and Conformation\n— Rosettes for ALL placements\n— Prizes (TBD) for key placements \nSupported entry with rosettes for key placements on Friday and Sunday\nNew Title holder rosettes will be available for any bichon finishing a Champion or Grand Champion title on any day that weekend. \n– NOHS all 3 days\n– The club website will post show details as they become available.\nVisit http://bichonfriseclubofsandiego.com/2024specialty-summer
URL:https://bichon.org/event/bichon-frise-club-of-san-diego-summer-designated-specialty-show-2/
CATEGORIES:Local Club
END:VEVENT
END:VCALENDAR